BEGIN:VCALENDAR
VERSION:2.0
PRODID:-//Midwest Community Living Assocation - ECPv6.15.20//NONSGML v1.0//EN
CALSCALE:GREGORIAN
METHOD:PUBLISH
X-WR-CALNAME:Midwest Community Living Assocation
X-ORIGINAL-URL:https://www.midwestcommunityliving.org.au
X-WR-CALDESC:Events for Midwest Community Living Assocation
REFRESH-INTERVAL;VALUE=DURATION:PT1H
X-Robots-Tag:noindex
X-PUBLISHED-TTL:PT1H
BEGIN:VTIMEZONE
TZID:Australia/Perth
BEGIN:STANDARD
TZOFFSETFROM:+0800
TZOFFSETTO:+0800
TZNAME:AWST
DTSTART:20250101T000000
END:STANDARD
END:VTIMEZONE
BEGIN:VEVENT
DTSTART;TZID=Australia/Perth:20260303T133000
DTEND;TZID=Australia/Perth:20260303T143000
DTSTAMP:20260423T111213
CREATED:20250926T074437Z
LAST-MODIFIED:20250926T074707Z
UID:10003095-1772544600-1772548200@www.midwestcommunityliving.org.au
SUMMARY:Walkie Talkies
DESCRIPTION:Are you looking for an opportunity to meet new people\, get out and about in the community and increase your fitness? \nWhy not come and try Walkie Talkies where we combine all three to make exercise a fun and enjoyable social activity! \nOur Walkie Talkies walking group welcomes all new members and currently meets two times a week.  Departing from the MWCLA office at 75 Marine Terrace Geraldton\, our group explores the beautiful walking trails our great city has to offer and concludes with a healthy snack and refreshment. \nWhether you walk\, roll or cycle\, if this sounds like something you would like to be part of\, we would love to hear from you! \nFor more information call Jo Luxton on (08) 9921 1505.  Let’s get walking!
URL:https://www.midwestcommunityliving.org.au/event/walkie-talkies-2-2/2026-03-03/
LOCATION:Midwest Community Living Association\, 4/89 Durlacher Street\, Geraldton\, WA\, 6530
CATEGORIES:All Welcome
ATTACH;FMTTYPE=image/jpeg:https://www.midwestcommunityliving.org.au/wp-content/uploads/2025/06/Walkie-talkies-foreshore.jpg
END:VEVENT
END:VCALENDAR